BEGIN:VCALENDAR
VERSION:2.0
PRODID:-//weXelerate - ECPv6.15.20//NONSGML v1.0//EN
CALSCALE:GREGORIAN
METHOD:PUBLISH
X-WR-CALNAME:weXelerate
X-ORIGINAL-URL:https://wexelerate.com
X-WR-CALDESC:Events for weXelerate
REFRESH-INTERVAL;VALUE=DURATION:PT1H
X-Robots-Tag:noindex
X-PUBLISHED-TTL:PT1H
BEGIN:VTIMEZONE
TZID:Europe/Vienna
BEGIN:DAYLIGHT
TZOFFSETFROM:+0100
TZOFFSETTO:+0200
TZNAME:CEST
DTSTART:20240331T010000
END:DAYLIGHT
BEGIN:STANDARD
TZOFFSETFROM:+0200
TZOFFSETTO:+0100
TZNAME:CET
DTSTART:20241027T010000
END:STANDARD
BEGIN:DAYLIGHT
TZOFFSETFROM:+0100
TZOFFSETTO:+0200
TZNAME:CEST
DTSTART:20250330T010000
END:DAYLIGHT
BEGIN:STANDARD
TZOFFSETFROM:+0200
TZOFFSETTO:+0100
TZNAME:CET
DTSTART:20251026T010000
END:STANDARD
BEGIN:DAYLIGHT
TZOFFSETFROM:+0100
TZOFFSETTO:+0200
TZNAME:CEST
DTSTART:20260329T010000
END:DAYLIGHT
BEGIN:STANDARD
TZOFFSETFROM:+0200
TZOFFSETTO:+0100
TZNAME:CET
DTSTART:20261025T010000
END:STANDARD
END:VTIMEZONE
BEGIN:VEVENT
DTSTART;TZID=Europe/Vienna:20250417T140000
DTEND;TZID=Europe/Vienna:20250417T170000
DTSTAMP:20260419T200934
CREATED:20250107T144751Z
LAST-MODIFIED:20250410T125944Z
UID:7696-1744898400-1744909200@wexelerate.com
SUMMARY:Cross Corporate Circle: Innovation umsetzen [members only]
DESCRIPTION:[vor Ort Event] \n  \nDer Cross Corporate Circle ist ein exklusives Format für alle\, die praxisnahe Einblicke suchen\, neue Perspektiven kennenlernen und berufliche Netzwerke ausbauen möchten. In der 3-stündigen Session vor Ort steht der offene Austausch im Mittelpunkt. Ein Unternehmen stellt eine reale Fallstudie oder konkrete Herausforderung vor\, die gemeinsam in kleiner Runde diskutiert wird. Alternativ können die Teilnehmer in einem Deep-Dive-Workshop spezifische Themen erarbeiten. Durch die enge Zusammenarbeit und den persönlichen Austausch entstehen neue Lösungsansätze und wertvolle berufliche Kontakte. \n  \nAblauf: \n\nPräsentation einer realen Fallstudie oder Herausforderung durch ein Unternehmen\nAlternativ: Deep-Dive-Workshop zu einem spezifischen Thema mit praxisnahem Fokus\nInteraktive Diskussion in kleiner Gruppe zur Erarbeitung von Lösungen und Perspektiven\n\n  \nZiele \n\nNeue Perspektiven kennenlernen und berufliche Kontakte knüpfen\nAustausch von Ideen\, Erfahrungen und Perspektiven in einer kollaborativen Umgebung\nAktiv ein Thema für die Praxis erarbeiten und praxisnahe Lösungsansätze entwickeln\n\n  \nZielgruppe \n\nPersonen\, die Feedback zu einer aktuellen Herausforderung einholen möchten\nTeilnehmer\, die gemeinsam spezifische Lösungsansätze zu einem Thema erarbeiten wollen\nMenschen\, die sich von unterschiedlichen Perspektiven inspirieren lassen möchten\n\n  \nSpeaker \n\nUniversitäten\, die wissenschaftliche Hintergründe und innovative Ansätze einbringen\nCorporates\, die aus ihrer praktischen Erfahrung berichten und konkrete Herausforderungen präsentieren\nDienstleister\, die mit spezialisierten Lösungsansätzen und Methoden unterstützen\n\n  \nANMELDELINK FÜR MEMBER\n 
URL:https://wexelerate.com/eventp/cross-corporate-circle-2/
ATTACH;FMTTYPE=image/png:https://wexelerate.com/wp-content/uploads/2025/01/Cross-Corproate-Circle.png
END:VEVENT
END:VCALENDAR