BEGIN:VCALENDAR
VERSION:2.0
PRODID:-//weXelerate - ECPv6.15.20//NONSGML v1.0//EN
CALSCALE:GREGORIAN
METHOD:PUBLISH
X-WR-CALNAME:weXelerate
X-ORIGINAL-URL:https://wexelerate.com
X-WR-CALDESC:Events for weXelerate
REFRESH-INTERVAL;VALUE=DURATION:PT1H
X-Robots-Tag:noindex
X-PUBLISHED-TTL:PT1H
BEGIN:VTIMEZONE
TZID:Europe/Vienna
BEGIN:DAYLIGHT
TZOFFSETFROM:+0100
TZOFFSETTO:+0200
TZNAME:CEST
DTSTART:20240331T010000
END:DAYLIGHT
BEGIN:STANDARD
TZOFFSETFROM:+0200
TZOFFSETTO:+0100
TZNAME:CET
DTSTART:20241027T010000
END:STANDARD
BEGIN:DAYLIGHT
TZOFFSETFROM:+0100
TZOFFSETTO:+0200
TZNAME:CEST
DTSTART:20250330T010000
END:DAYLIGHT
BEGIN:STANDARD
TZOFFSETFROM:+0200
TZOFFSETTO:+0100
TZNAME:CET
DTSTART:20251026T010000
END:STANDARD
BEGIN:DAYLIGHT
TZOFFSETFROM:+0100
TZOFFSETTO:+0200
TZNAME:CEST
DTSTART:20260329T010000
END:DAYLIGHT
BEGIN:STANDARD
TZOFFSETFROM:+0200
TZOFFSETTO:+0100
TZNAME:CET
DTSTART:20261025T010000
END:STANDARD
END:VTIMEZONE
BEGIN:VEVENT
DTSTART;TZID=Europe/Vienna:20251023T140000
DTEND;TZID=Europe/Vienna:20251023T170000
DTSTAMP:20260421T103501
CREATED:20250418T081612Z
LAST-MODIFIED:20251008T085720Z
UID:8628-1761228000-1761238800@wexelerate.com
SUMMARY:Cross Corporate Circle: KI Use Cases & Umsetzung [members only]
DESCRIPTION:[vor Ort Event] \nWie bringen wir AI wirkungsvoll und schneller in die Umsetzung?\nViele Unternehmen haben in den vergangenen Jahren erste AI-Projekte gestartet – doch zwischen erfolgreichen Pilotanwendungen und echter Wirkung im Kerngeschäft klafft oft eine Lücke. 2025 ist klar: AI ist kein Experiment mehr\, sondern muss strukturell in Prozesse\, Produkte und Entscheidungen integriert werden. \nClemens Wasner\, CEO von EnliteAI und Gründer von AI Austria\, zeigt\, warum AI in 2025 nicht mehr AI in 2020 ist – und wie sich die Herangehensweisen\, Organisationsmodelle und Technologien seither verändert haben. Er gibt Einblicke\, welche Faktoren erfolgreiche Unternehmen unterscheiden\, wie man vom Enablement zur tatsächlichen Umsetzung kommt und was ein AI First-Mindset heute bedeutet. \nIm Anschluss diskutieren wir gemeinsam mit den Teilnehmer:innen\, welche Quick Wins in ihren Organisationen bereits erzielt wurden\, welche Roadblocks es noch gibt – und welche Prozesse oder Abteilungen als erste für einen AI First-Ansatz geeignet sind. \n\nSpeaker\nClemens WasnerClemens Wasner ist CEO von EnliteAI\, Gründer von AI Austria und einer der führenden AI-Experten im deutschsprachigen Raum. Er berät Unternehmen in Strategie\, Organisation und Umsetzung von AI-Projekten und ist international gefragter Speaker zu Fragen der industriellen AI-Transformation. \n\nFormat\nDer Cross Corporate Circle ist ein exklusives Format für alle\, die praxisnahe Einblicke suchen\, neue Perspektiven kennenlernen und berufliche Netzwerke ausbauen möchten. In der 3-stündigen Session vor Ort steht der offene Austausch im Mittelpunkt. \n\nFragestellungen\n\n\nWie hat sich der Zugang von Unternehmen zu AI in den letzten Jahren verändert? \n\n\nWelche organisatorischen Modelle und Ansätze unterstützen eine wirksame Umsetzung? \n\n\nWelche Quick Wins zeigen\, dass Wirkung auch kurzfristig möglich ist? \n\n\nWelche Barrieren stehen einer breiten Skalierung im Weg – und wie lassen sie sich lösen? \n\n\nWelche Unternehmensbereiche sind prädestiniert für einen AI First-Ansatz? \n\n\n\nZiele\n\n\nStandortbestimmung: Wo stehen Unternehmen 2025 beim Thema AI wirklich? \n\n\nBest Practices\, Quick Wins und Stolpersteine aus der Praxis reflektieren \n\n\nInspiration für konkrete nächste Schritte Richtung AI First gewinnen
URL:https://wexelerate.com/eventp/cross-corporate-circle-methoden-und-formate-members-only/
CATEGORIES:Corporate Innovation
ATTACH;FMTTYPE=image/png:https://wexelerate.com/wp-content/uploads/2025/04/Innovation-Master-Class-Speaker-3-Kopie.png
END:VEVENT
END:VCALENDAR