BEGIN:VCALENDAR
VERSION:2.0
PRODID:-//weXelerate - ECPv6.15.20//NONSGML v1.0//EN
CALSCALE:GREGORIAN
METHOD:PUBLISH
X-WR-CALNAME:weXelerate
X-ORIGINAL-URL:https://wexelerate.com
X-WR-CALDESC:Events for weXelerate
REFRESH-INTERVAL;VALUE=DURATION:PT1H
X-Robots-Tag:noindex
X-PUBLISHED-TTL:PT1H
BEGIN:VTIMEZONE
TZID:Europe/Vienna
BEGIN:DAYLIGHT
TZOFFSETFROM:+0100
TZOFFSETTO:+0200
TZNAME:CEST
DTSTART:20230326T010000
END:DAYLIGHT
BEGIN:STANDARD
TZOFFSETFROM:+0200
TZOFFSETTO:+0100
TZNAME:CET
DTSTART:20231029T010000
END:STANDARD
BEGIN:DAYLIGHT
TZOFFSETFROM:+0100
TZOFFSETTO:+0200
TZNAME:CEST
DTSTART:20240331T010000
END:DAYLIGHT
BEGIN:STANDARD
TZOFFSETFROM:+0200
TZOFFSETTO:+0100
TZNAME:CET
DTSTART:20241027T010000
END:STANDARD
BEGIN:DAYLIGHT
TZOFFSETFROM:+0100
TZOFFSETTO:+0200
TZNAME:CEST
DTSTART:20250330T010000
END:DAYLIGHT
BEGIN:STANDARD
TZOFFSETFROM:+0200
TZOFFSETTO:+0100
TZNAME:CET
DTSTART:20251026T010000
END:STANDARD
END:VTIMEZONE
BEGIN:VEVENT
DTSTART;TZID=Europe/Vienna:20240606T173000
DTEND;TZID=Europe/Vienna:20240606T220000
DTSTAMP:20260420T015554
CREATED:20240422T063251Z
LAST-MODIFIED:20250709T224116Z
UID:2433-1717695000-1717711200@wexelerate.com
SUMMARY:FELLOWS CLUB / invite only
DESCRIPTION:Für den ersten Fellows Club im Jahr 2024\, freuen wir uns sehr in Kooperation mit der schweizerischen Botschaft in Österreich\, IE Botschafterin Salome Meyer und Switzerland Global Enterprise einladen zu dürfen und Prof. Benoît Dubuis als Gastredner zu begrüßen! \nHIGHLIGHTS DES ABENDS: \n\nInnovationsführerschaft* der Schweiz: Einblicke in die Erfolgsgeschichte.\nLessons Learned: Erkenntnisse aus der Kommerzialisierung von Forschungsergebnissen.\nInnovation als neue Währung: Was Unternehmen heute benötigen\, um erfolgreich zu sein.\n\n  \nNach dem inspirierenden Dialog wird zum exklusiven Dinner ins Loft SO/ Vienna eingeladen\, wo der Abend mit einem atemberaubenden Blick über die Dächer Wiens ausklingen kann.
URL:https://wexelerate.com/eventp/fellows-club-invite-only/
END:VEVENT
END:VCALENDAR