BEGIN:VCALENDAR
VERSION:2.0
PRODID:-//weXelerate - ECPv6.15.20//NONSGML v1.0//EN
CALSCALE:GREGORIAN
METHOD:PUBLISH
X-WR-CALNAME:weXelerate
X-ORIGINAL-URL:https://wexelerate.com
X-WR-CALDESC:Events for weXelerate
REFRESH-INTERVAL;VALUE=DURATION:PT1H
X-Robots-Tag:noindex
X-PUBLISHED-TTL:PT1H
BEGIN:VTIMEZONE
TZID:Europe/Vienna
BEGIN:DAYLIGHT
TZOFFSETFROM:+0100
TZOFFSETTO:+0200
TZNAME:CEST
DTSTART:20230326T010000
END:DAYLIGHT
BEGIN:STANDARD
TZOFFSETFROM:+0200
TZOFFSETTO:+0100
TZNAME:CET
DTSTART:20231029T010000
END:STANDARD
BEGIN:DAYLIGHT
TZOFFSETFROM:+0100
TZOFFSETTO:+0200
TZNAME:CEST
DTSTART:20240331T010000
END:DAYLIGHT
BEGIN:STANDARD
TZOFFSETFROM:+0200
TZOFFSETTO:+0100
TZNAME:CET
DTSTART:20241027T010000
END:STANDARD
BEGIN:DAYLIGHT
TZOFFSETFROM:+0100
TZOFFSETTO:+0200
TZNAME:CEST
DTSTART:20250330T010000
END:DAYLIGHT
BEGIN:STANDARD
TZOFFSETFROM:+0200
TZOFFSETTO:+0100
TZNAME:CET
DTSTART:20251026T010000
END:STANDARD
END:VTIMEZONE
BEGIN:VEVENT
DTSTART;TZID=Europe/Vienna:20240528T180000
DTEND;TZID=Europe/Vienna:20240528T210000
DTSTAMP:20260420T015601
CREATED:20240510T060305Z
LAST-MODIFIED:20240510T060305Z
UID:2456-1716919200-1716930000@wexelerate.com
SUMMARY:INNOVATION AFTERHOUR // kostenlose Teilnahme
DESCRIPTION:INNOVATION AFTERHOUR // Rainbow is the New BlackWhy Innovating with Pride Mattershosted by VANGARDIST agencysupported by Austrian Standards\, Austria Wirtschaftsservice (aws)\, DXC Technology\, Wirtschaftsagentur Wien & SO/ VIENNA \nJoin us at weXelerate for a special event commemorating the week of pride and honoring LGBTQ contributions. Let’s celebrate diversity and embrace the vibrant spectrum of ideas that drive progress. Whether you’re a tech enthusiast\, an entrepreneur or simply curious about the latest trends\, this is the place to be. \nOur Main Speaker\, Julian Wiehl\, CEO & Founder of VANGARDIST MEDIA & AGENCY\, will kick off the evening with insights and perspectives on the importance of innovation with pride. More speakers will be announced soon\, so stay tuned for updates. \n \nFollowing the presentations\, we invite you to participate in Q&A sessions and continue the conversation during networking opportunities. \nSign up now: INNOVATION AFTERHOUR // Rainbow is the New Black Tickets\, Di\, 28.05.2024 um 17:30 | Eventbrite
URL:https://wexelerate.com/eventp/innovation-afterhour-kostenlose-teilnahme-2/
END:VEVENT
END:VCALENDAR