BEGIN:VCALENDAR
VERSION:2.0
PRODID:-//weXelerate - ECPv6.15.20//NONSGML v1.0//EN
CALSCALE:GREGORIAN
METHOD:PUBLISH
X-WR-CALNAME:weXelerate
X-ORIGINAL-URL:https://wexelerate.com
X-WR-CALDESC:Events for weXelerate
REFRESH-INTERVAL;VALUE=DURATION:PT1H
X-Robots-Tag:noindex
X-PUBLISHED-TTL:PT1H
BEGIN:VTIMEZONE
TZID:Europe/Vienna
BEGIN:DAYLIGHT
TZOFFSETFROM:+0100
TZOFFSETTO:+0200
TZNAME:CEST
DTSTART:20230326T010000
END:DAYLIGHT
BEGIN:STANDARD
TZOFFSETFROM:+0200
TZOFFSETTO:+0100
TZNAME:CET
DTSTART:20231029T010000
END:STANDARD
BEGIN:DAYLIGHT
TZOFFSETFROM:+0100
TZOFFSETTO:+0200
TZNAME:CEST
DTSTART:20240331T010000
END:DAYLIGHT
BEGIN:STANDARD
TZOFFSETFROM:+0200
TZOFFSETTO:+0100
TZNAME:CET
DTSTART:20241027T010000
END:STANDARD
BEGIN:DAYLIGHT
TZOFFSETFROM:+0100
TZOFFSETTO:+0200
TZNAME:CEST
DTSTART:20250330T010000
END:DAYLIGHT
BEGIN:STANDARD
TZOFFSETFROM:+0200
TZOFFSETTO:+0100
TZNAME:CET
DTSTART:20251026T010000
END:STANDARD
END:VTIMEZONE
BEGIN:VEVENT
DTSTART;TZID=Europe/Vienna:20240612T081500
DTEND;TZID=Europe/Vienna:20240612T174500
DTSTAMP:20260420T011939
CREATED:20240329T123923Z
LAST-MODIFIED:20240329T123923Z
UID:2392-1718180100-1718214300@wexelerate.com
SUMMARY:Innovation Forum Industry by Succus
DESCRIPTION:Twin Transition \nAustria’s manufacturing industry has often proven that it can adapt to changing conditions. Today\, we are faced with both great opportunities and enormous challenges. The combination of new technologies enables innovative business models. Scarce resources and climate change are pointing the way to new paths. \nThe 3rd Innovation Forum Industry will take place on June 12\, 2024\, at the voestalpine Stahlwelt. Inspiring keynotes\, successful pioneers\, and innovative implementers will make up the program in 2024. \nMore about the event \nweXelerate member benefit from discounted ticket.  Please reach out to us at ecosystem@wexelerate.com.
URL:https://wexelerate.com/eventp/innovation-forum-industry-by-succus/
END:VEVENT
END:VCALENDAR