BEGIN:VCALENDAR
VERSION:2.0
PRODID:-//weXelerate - ECPv6.15.20//NONSGML v1.0//EN
CALSCALE:GREGORIAN
METHOD:PUBLISH
X-WR-CALNAME:weXelerate
X-ORIGINAL-URL:https://wexelerate.com
X-WR-CALDESC:Events for weXelerate
REFRESH-INTERVAL;VALUE=DURATION:PT1H
X-Robots-Tag:noindex
X-PUBLISHED-TTL:PT1H
BEGIN:VTIMEZONE
TZID:Europe/Vienna
BEGIN:DAYLIGHT
TZOFFSETFROM:+0100
TZOFFSETTO:+0200
TZNAME:CEST
DTSTART:20230326T010000
END:DAYLIGHT
BEGIN:STANDARD
TZOFFSETFROM:+0200
TZOFFSETTO:+0100
TZNAME:CET
DTSTART:20231029T010000
END:STANDARD
BEGIN:DAYLIGHT
TZOFFSETFROM:+0100
TZOFFSETTO:+0200
TZNAME:CEST
DTSTART:20240331T010000
END:DAYLIGHT
BEGIN:STANDARD
TZOFFSETFROM:+0200
TZOFFSETTO:+0100
TZNAME:CET
DTSTART:20241027T010000
END:STANDARD
BEGIN:DAYLIGHT
TZOFFSETFROM:+0100
TZOFFSETTO:+0200
TZNAME:CEST
DTSTART:20250330T010000
END:DAYLIGHT
BEGIN:STANDARD
TZOFFSETFROM:+0200
TZOFFSETTO:+0100
TZNAME:CET
DTSTART:20251026T010000
END:STANDARD
END:VTIMEZONE
BEGIN:VEVENT
DTSTART;TZID=Europe/Vienna:20240912T103000
DTEND;TZID=Europe/Vienna:20240912T114500
DTSTAMP:20260420T020859
CREATED:20240329T123923Z
LAST-MODIFIED:20240329T123923Z
UID:2397-1726137000-1726141500@wexelerate.com
SUMMARY:INNOVATION INSIGHTS // Gamification Spielerisch zum Erfolg: Gamification als Innovationsstrategie // free for members
DESCRIPTION:Points\, Levels\, Highscores und Quests – Begriffe die in der Gamingwelt nicht mehr wegzudenken sind. Aber kann man auch im Unternehmen spielerisch Erfolg haben? Mit dem Ansatz der Gamification wenden wir spieltypische Elemente in spielfremden Umgebungen an. Dabei steigert dieser Zugang oft die Motivation aller Beteiligten und ermöglicht kreative Problemlösungen. Mit diesem Innovation Insights Event bringen wir dich und dein Unternehmen aufs nächste Level!\nDie Teilnahme ist nur für Member des Innovationsökosystems von weXelerate möglich. Für mehr Infos kontaktiere uns unter ecosystem@wexelerate.com
URL:https://wexelerate.com/eventp/innovation-insights-gamification-spielerisch-zum-erfolg-gamification-als-innovationsstrategie-free-for-members/
END:VEVENT
END:VCALENDAR