BEGIN:VCALENDAR
VERSION:2.0
PRODID:-//weXelerate - ECPv6.15.20//NONSGML v1.0//EN
CALSCALE:GREGORIAN
METHOD:PUBLISH
X-WR-CALNAME:weXelerate
X-ORIGINAL-URL:https://wexelerate.com
X-WR-CALDESC:Events for weXelerate
REFRESH-INTERVAL;VALUE=DURATION:PT1H
X-Robots-Tag:noindex
X-PUBLISHED-TTL:PT1H
BEGIN:VTIMEZONE
TZID:Europe/Vienna
BEGIN:DAYLIGHT
TZOFFSETFROM:+0100
TZOFFSETTO:+0200
TZNAME:CEST
DTSTART:20230326T010000
END:DAYLIGHT
BEGIN:STANDARD
TZOFFSETFROM:+0200
TZOFFSETTO:+0100
TZNAME:CET
DTSTART:20231029T010000
END:STANDARD
BEGIN:DAYLIGHT
TZOFFSETFROM:+0100
TZOFFSETTO:+0200
TZNAME:CEST
DTSTART:20240331T010000
END:DAYLIGHT
BEGIN:STANDARD
TZOFFSETFROM:+0200
TZOFFSETTO:+0100
TZNAME:CET
DTSTART:20241027T010000
END:STANDARD
BEGIN:DAYLIGHT
TZOFFSETFROM:+0100
TZOFFSETTO:+0200
TZNAME:CEST
DTSTART:20250330T010000
END:DAYLIGHT
BEGIN:STANDARD
TZOFFSETFROM:+0200
TZOFFSETTO:+0100
TZNAME:CET
DTSTART:20251026T010000
END:STANDARD
END:VTIMEZONE
BEGIN:VEVENT
DTSTART;TZID=Europe/Vienna:20240903T100000
DTEND;TZID=Europe/Vienna:20240903T150000
DTSTAMP:20260420T020935
CREATED:20240329T123923Z
LAST-MODIFIED:20240329T123923Z
UID:2396-1725357600-1725375600@wexelerate.com
SUMMARY:INNOVATION MASTER CLASS // Modul 4 Kultur des Wandels: Innovationskultur gestalten // exklusiv für Members
DESCRIPTION:Etabliere eine Innovationskultur\, die inspiriert und verändert! Lerne\, wie du eine Umgebung schaffst\, in der Innovation gedeiht. Entdecke\, wie du Mitarbeiterengagement steigerst und innovative Denkweisen förderst. Gemeinsam gestalten wir eine Kultur des Wandels für eine erfolgreiche Zukunft. \nNach diesem Modul wirst du Folgendes gelernt haben: \n\nTechniken zur Förderung von Mitarbeiterengagement im Innovationsprozess.\nWissen über HR-Strategien sowie Anreizsysteme zur Unterstützung der Innovationskultur.\nVerständnis für die Bedeutung von Mitarbeiterbeteiligung am Innovationsgeschehen.\n\nDie Teilnahme ist nur für Member des Innovationsökosystems von weXelerate möglich. Für mehr Infos kontaktiere uns unter ecosystem@wexelerate.com
URL:https://wexelerate.com/eventp/innovation-master-class-modul-4-kultur-des-wandels-innovationskultur-gestalten-exklusiv-fur-members/
END:VEVENT
END:VCALENDAR