BEGIN:VCALENDAR
VERSION:2.0
PRODID:-//weXelerate - ECPv6.15.20//NONSGML v1.0//EN
CALSCALE:GREGORIAN
METHOD:PUBLISH
X-WR-CALNAME:weXelerate
X-ORIGINAL-URL:https://wexelerate.com
X-WR-CALDESC:Events for weXelerate
REFRESH-INTERVAL;VALUE=DURATION:PT1H
X-Robots-Tag:noindex
X-PUBLISHED-TTL:PT1H
BEGIN:VTIMEZONE
TZID:Europe/Vienna
BEGIN:DAYLIGHT
TZOFFSETFROM:+0100
TZOFFSETTO:+0200
TZNAME:CEST
DTSTART:20230326T010000
END:DAYLIGHT
BEGIN:STANDARD
TZOFFSETFROM:+0200
TZOFFSETTO:+0100
TZNAME:CET
DTSTART:20231029T010000
END:STANDARD
BEGIN:DAYLIGHT
TZOFFSETFROM:+0100
TZOFFSETTO:+0200
TZNAME:CEST
DTSTART:20240331T010000
END:DAYLIGHT
BEGIN:STANDARD
TZOFFSETFROM:+0200
TZOFFSETTO:+0100
TZNAME:CET
DTSTART:20241027T010000
END:STANDARD
BEGIN:DAYLIGHT
TZOFFSETFROM:+0100
TZOFFSETTO:+0200
TZNAME:CEST
DTSTART:20250330T010000
END:DAYLIGHT
BEGIN:STANDARD
TZOFFSETFROM:+0200
TZOFFSETTO:+0100
TZNAME:CET
DTSTART:20251026T010000
END:STANDARD
END:VTIMEZONE
BEGIN:VEVENT
DTSTART;TZID=Europe/Vienna:20240418T110000
DTEND;TZID=Europe/Vienna:20240418T180000
DTSTAMP:20260424T203106
CREATED:20240329T123922Z
LAST-MODIFIED:20240329T123922Z
UID:2380-1713438000-1713463200@wexelerate.com
SUMMARY:MedDay by Ärztekammer Wien
DESCRIPTION:Job Fair for Medical Students & Young Doctors\, on April 18\, 2024\, at @wexelerate! Admission is free and no registration is required. \nDive into a world full of exciting workshops\, simulators\, and inspiring talks! Discover our exhibition area with numerous exhibitors and experience innovation up close. \nEnjoy delicious coffee specialties and refreshing drinks while you get inspired and gain new insights. \nBe ready for a day full of innovations\, networking\, and unforgettable experiences!  \nMore infos
URL:https://wexelerate.com/eventp/medday-by-arztekammer-wien/
END:VEVENT
END:VCALENDAR