BEGIN:VCALENDAR
VERSION:2.0
PRODID:-//weXelerate - ECPv6.15.20//NONSGML v1.0//EN
CALSCALE:GREGORIAN
METHOD:PUBLISH
X-WR-CALNAME:weXelerate
X-ORIGINAL-URL:https://wexelerate.com
X-WR-CALDESC:Events for weXelerate
REFRESH-INTERVAL;VALUE=DURATION:PT1H
X-Robots-Tag:noindex
X-PUBLISHED-TTL:PT1H
BEGIN:VTIMEZONE
TZID:UTC
BEGIN:STANDARD
TZOFFSETFROM:+0000
TZOFFSETTO:+0000
TZNAME:UTC
DTSTART:20240101T000000
END:STANDARD
END:VTIMEZONE
BEGIN:VEVENT
DTSTART;TZID=UTC:20250603T170000
DTEND;TZID=UTC:20250603T213000
DTSTAMP:20260423T020842
CREATED:20250327T134313Z
LAST-MODIFIED:20250327T134313Z
UID:8448-1748970000-1748986200@wexelerate.com
SUMMARY:Member Treffen at weXelerate
DESCRIPTION:Weitere Infos folgen
URL:https://wexelerate.com/eventp/member-treffen-at-wexelerate/
END:VEVENT
END:VCALENDAR