BEGIN:VCALENDAR
VERSION:2.0
PRODID:-//weXelerate - ECPv6.15.20//NONSGML v1.0//EN
CALSCALE:GREGORIAN
METHOD:PUBLISH
X-WR-CALNAME:weXelerate
X-ORIGINAL-URL:https://wexelerate.com
X-WR-CALDESC:Events for weXelerate
REFRESH-INTERVAL;VALUE=DURATION:PT1H
X-Robots-Tag:noindex
X-PUBLISHED-TTL:PT1H
BEGIN:VTIMEZONE
TZID:Europe/Vienna
BEGIN:DAYLIGHT
TZOFFSETFROM:+0100
TZOFFSETTO:+0200
TZNAME:CEST
DTSTART:20240331T010000
END:DAYLIGHT
BEGIN:STANDARD
TZOFFSETFROM:+0200
TZOFFSETTO:+0100
TZNAME:CET
DTSTART:20241027T010000
END:STANDARD
BEGIN:DAYLIGHT
TZOFFSETFROM:+0100
TZOFFSETTO:+0200
TZNAME:CEST
DTSTART:20250330T010000
END:DAYLIGHT
BEGIN:STANDARD
TZOFFSETFROM:+0200
TZOFFSETTO:+0100
TZNAME:CET
DTSTART:20251026T010000
END:STANDARD
BEGIN:DAYLIGHT
TZOFFSETFROM:+0100
TZOFFSETTO:+0200
TZNAME:CEST
DTSTART:20260329T010000
END:DAYLIGHT
BEGIN:STANDARD
TZOFFSETFROM:+0200
TZOFFSETTO:+0100
TZNAME:CET
DTSTART:20261025T010000
END:STANDARD
END:VTIMEZONE
BEGIN:VEVENT
DTSTART;TZID=Europe/Vienna:20250523T150000
DTEND;TZID=Europe/Vienna:20250523T160000
DTSTAMP:20260423T093127
CREATED:20250515T100037Z
LAST-MODIFIED:20250516T083236Z
UID:8822-1748012400-1748016000@wexelerate.com
SUMMARY:Venturecake Power Session:  Random Lessons from Launching\, Scaling\, and Investing in Start-ups
DESCRIPTION:For Venturecake Startups Only + Selected Guests from our Venturecake Partners \n  \n  \nWhat this Power Session is about \nIn this honest and interactive session\, you’re invited to join a behind-the-scenes look at the realities of building\, growing\, and backing start-ups. From early wins to painful missteps\, this session explores the journey of entrepreneurship through personal stories and practical takeaways gained across multiple ventures and investment rounds. \nWhether you’re navigating your first startup or preparing for your next funding round\, this is a space for real talk—not just advice. \n  \n  \n  \nWhat to expect \n•Candid insights into the highs and lows of startup life \n•Personal lessons learned from building and backing multiple companies \n•An open Q&A session—bring your questions\, nothing’s off-limits \n•Practical takeaways you can apply to your own founder journey \n  \n  \n  \nWhy should you attend? \nFounder Reality Check – Go beyond the success stories and learn what really happens behind the scenes. \nReal Lessons\, Not Theories – Hear what worked\, what didn’t\, and how to grow from it. \nOpen Space for Real Talk – Get answers to the questions you’re actually asking as a founder. \n  \n  \n  \nMore info via: info@venturecake.eu
URL:https://wexelerate.com/eventp/venturecake-power-session-random-lessons-from-launching-scaling-and-investing-in-start-ups/
CATEGORIES:Venturecake
ATTACH;FMTTYPE=image/png:https://wexelerate.com/wp-content/uploads/2025/05/tobias.png
END:VEVENT
END:VCALENDAR