BEGIN:VCALENDAR
VERSION:2.0
PRODID:-//weXelerate - ECPv6.15.20//NONSGML v1.0//EN
CALSCALE:GREGORIAN
METHOD:PUBLISH
X-WR-CALNAME:weXelerate
X-ORIGINAL-URL:https://wexelerate.com
X-WR-CALDESC:Events for weXelerate
REFRESH-INTERVAL;VALUE=DURATION:PT1H
X-Robots-Tag:noindex
X-PUBLISHED-TTL:PT1H
BEGIN:VTIMEZONE
TZID:Europe/Vienna
BEGIN:DAYLIGHT
TZOFFSETFROM:+0100
TZOFFSETTO:+0200
TZNAME:CEST
DTSTART:20240331T010000
END:DAYLIGHT
BEGIN:STANDARD
TZOFFSETFROM:+0200
TZOFFSETTO:+0100
TZNAME:CET
DTSTART:20241027T010000
END:STANDARD
BEGIN:DAYLIGHT
TZOFFSETFROM:+0100
TZOFFSETTO:+0200
TZNAME:CEST
DTSTART:20250330T010000
END:DAYLIGHT
BEGIN:STANDARD
TZOFFSETFROM:+0200
TZOFFSETTO:+0100
TZNAME:CET
DTSTART:20251026T010000
END:STANDARD
BEGIN:DAYLIGHT
TZOFFSETFROM:+0100
TZOFFSETTO:+0200
TZNAME:CEST
DTSTART:20260329T010000
END:DAYLIGHT
BEGIN:STANDARD
TZOFFSETFROM:+0200
TZOFFSETTO:+0100
TZNAME:CET
DTSTART:20261025T010000
END:STANDARD
END:VTIMEZONE
BEGIN:VEVENT
DTSTART;TZID=Europe/Vienna:20250404T150000
DTEND;TZID=Europe/Vienna:20250404T160000
DTSTAMP:20260420T032056
CREATED:20250328T103701Z
LAST-MODIFIED:20250331T131432Z
UID:10000129-1743778800-1743782400@wexelerate.com
SUMMARY:Venturecake Power Session - Inside the VC Mindset
DESCRIPTION:For Venturecake Startups Only + Selected Guests from our Venturecake Partners \n  \n📅 Date: 04.04.2025 \n⏰ Time: 15:00 – 16:00 \n📍 Location: Online \n🎤 Speaker: Lukas Punzet\, Investment Manager at aws Gründungsfonds \n  \n  \nWhat this Power Session is about \nIn this informal and interactive session\, Lukas Punzet will give you a rare insider’s look into the world of early-stage venture capital. Representing aws Gründungsfonds\, one of Austria’s leading VC funds\, Lukas will share his perspective on what makes startups fundable\, what VCs are really looking for\, and how founders can best prepare for the fundraising journey. \n  \nWhat to expect \nA short intro into Lukas’ background and the investment approach of aws Gründungsfonds (15–20 min) \nAn open Q&A session with real-time insights into your burning fundraising questions \nPractical tips on how to engage with VCs and avoid common pitfalls \n  \n  \nWhy should you attend? \nDemystify Fundraising: Understand the key ingredients VCs look for in a startup pitch \nGet Real Feedback: Ask your questions directly and get honest\, actionable answers \nVC Readiness: Learn how to position your startup for funding success \n  \nMore info via: info@venturecake.eu
URL:https://wexelerate.com/eventp/venturecake-power-session-inside-the-vc-mindset/
CATEGORIES:Venturecake
ATTACH;FMTTYPE=image/png:https://wexelerate.com/wp-content/uploads/2025/03/Lukas.png
END:VEVENT
BEGIN:VEVENT
DTSTART;TZID=Europe/Vienna:20250414T160000
DTEND;TZID=Europe/Vienna:20250414T173000
DTSTAMP:20260420T032056
CREATED:20250409T084240Z
LAST-MODIFIED:20250409T084321Z
UID:10000139-1744646400-1744651800@wexelerate.com
SUMMARY:Venturecake Power Session - The Struggle of Funding
DESCRIPTION:For Venturecake Startups Only + Selected Guests from our Venturecake Partners \n📅 Date: 14.04.2025 \n⏰ Time: 15:00 – 16:30 \n📍 Location: Online \n🎤 Speaker: Sebastian Gruber\, CEO at hi.health \nWhat this Power Session is about \nIn this session\, Sebastian Gruber will share his real-world journey of building hi.health — a startup reshaping private health insurance — and what it really takes to raise millions in funding. With $6.5M raised and years of hands-on experience\, Sebastian offers both founder insights and fundraising know-how. Expect honest takes on the challenges of early-stage growth\, lessons from pitching to investors\, and how to build a healthtech company that makes an impact. \nWhat to expect \n• A short intro into Sebastian’s startup journey and how hi.health is transforming claims in private healthcare \n• Insights into raising $6.5M — what worked\, what didn’t\, and what every founder should know \n• Real-world advice on navigating the funding landscape\, especially in complex industries like healthcare \n• An open Q&A session where you can ask your questions directly \nWhy should you attend? \n• Learn from a Funded Founder: Get a rare perspective from someone who’s already done the hard work \n• Navigate Fundraising: Hear what really matters when raising early-stage capital \n• Get Real: Ask your own questions and gain honest\, experience-based answers \nMore info via: info@venturecake.eu
URL:https://wexelerate.com/eventp/venturecake-power-session-the-struggle-of-funding/
CATEGORIES:Venturecake
ATTACH;FMTTYPE=image/png:https://wexelerate.com/wp-content/uploads/2025/04/2.png
END:VEVENT
BEGIN:VEVENT
DTSTART;TZID=Europe/Vienna:20250417T150000
DTEND;TZID=Europe/Vienna:20250417T160000
DTSTAMP:20260420T032056
CREATED:20250409T085008Z
LAST-MODIFIED:20250409T085048Z
UID:10000140-1744902000-1744905600@wexelerate.com
SUMMARY:Venturecake Power Session – Startup Location Austria
DESCRIPTION:For Venturecake Startups Only + Selected Guests from our Venturecake Partners \n📅 Date: 17.04.2025 \n⏰ Time: 15:00 – 16:00 \n📍 Location: Online \n🎤 Speakers: Verena Gruber\, ABA Invest in Austria & Stephanie Flasch\, ABA Work in Austria \nWhat this Power Session is about \nIn this highly practical session\, Austria’s official investment promotion agency ABA will guide you through the essentials of building your startup in Austria — from founding and funding to working and living here. Whether you’re just starting or already growing\, this session is tailored to answer your key questions about operating in Austria. \nWhat to expect \n•15 min: Startup Hub Austria & Vienna – Verena Gruber gives insights into founding\, funding opportunities\, and the broader innovation landscape (including ViennaUP & Connect Day). \n•15 min: Living & Working in Austria – Stephanie Flasch outlines visa options and everything you need to know for relocating or hiring talent. \n•Q&A: Ask anything about the Austrian startup ecosystem\, legal setup\, or funding access. \nWhy should you attend? \n•Startup Navigation Made Easy: Learn the key steps to start and grow your business in Austria \n•Visa & Talent Insights: Understand the pathways for hiring or relocating international talent \n•Direct Expert Access: Get your questions answered by the official agency for foreign investors and skilled workers \nMore info via: info@venturecake.eu
URL:https://wexelerate.com/eventp/venturecake-power-session-startup-location-austria/
CATEGORIES:Venturecake
ATTACH;FMTTYPE=image/png:https://wexelerate.com/wp-content/uploads/2025/04/3.png
END:VEVENT
BEGIN:VEVENT
DTSTART;TZID=Europe/Vienna:20250425T150000
DTEND;TZID=Europe/Vienna:20250425T160000
DTSTAMP:20260420T032056
CREATED:20250418T094917Z
LAST-MODIFIED:20250418T095535Z
UID:10000149-1745593200-1745596800@wexelerate.com
SUMMARY:Venturecake Power Session – Marketing 101:Beyond the Pitch
DESCRIPTION:For Venturecake Startups Only + Selected Guests from our Venturecake Partners \n  \n  \n📅 Date: 25.04.2025 \n⏰ Time: 15:00 – 16:00 \n📍 Location: Online \n🎤 Speaker: Vladimir Cerić\, Marketing4Tech \n  \n  \nWhat this Power Session is about? \nFinding the right way through a competitive market is not easy. But starting from the fundamentals always helps. In this session Vladimir will lay out the foundations of marketing\, and guide the founders on a way to build them into their startup’s future. \n  \nWhat to expect? \nA 30-minute intro into the fundamental principles of marketing \nPractical tips on how to use marketing to achieve business goals \nAn AMA session to answer the immediate marketing dilemmas of founders \n  \nWhy should you attend? \nSee the scope: Understand all aspects of marketing and how they affect the business of your startup \nGet the answers: Ask away on how to accelerate growth and avoid the pitfalls \nFind the right way: Learn how to eliminate the distractions and focus on driving your idea further \n  \n  \nMore info via: info@venturecake.eu
URL:https://wexelerate.com/eventp/venturecake-power-session-marketing-101beyond-the-pitch/
CATEGORIES:Venturecake
ATTACH;FMTTYPE=image/png:https://wexelerate.com/wp-content/uploads/2025/04/Event-Header-.png
END:VEVENT
BEGIN:VEVENT
DTSTART;TZID=Europe/Vienna:20250428T160000
DTEND;TZID=Europe/Vienna:20250428T170000
DTSTAMP:20260420T032056
CREATED:20250409T113456Z
LAST-MODIFIED:20250418T213945Z
UID:10000141-1745856000-1745859600@wexelerate.com
SUMMARY:Info Session for Founders - Venturecake Accelerator
DESCRIPTION:🚀 Are you a startup founder looking to grow with the support of a powerful ecosystem? \n  \n  \n  \nJoin our online info session on April 28 to discover how Venturecake\, the co-owned accelerator powered by weXelerate\, helps founders like you succeed through mentorship\, funding readiness\, and access to Austria’s top innovation networks. \n  \n  \n🎯 What you’ll learn: \n•How the co-ownership model works (“Add a layer\, take a slice”) \n•What makes Venturecake different from classic accelerator programs \n • How to access our expert mentors\, corporate & investor networks\, and co-working space in Vienna \n•How to apply for the CURRENT batch \n  \nmore info at venturecake.eu \n  \n🎁 Bonus: All attendees get a FREE ticket to the CEE Innovation Forum during ViennaUP Week – a major startup event connecting CEE founders\, VCs\, and innovation leaders. \n  \n  \n📅 April 28\, 2025 | 16:00 | Online \n  \n🔗 Register now – it’s free! \n 
URL:https://wexelerate.com/eventp/info-session-for-founders-about-venturecake-accelerator/
CATEGORIES:Venturecake
ATTACH;FMTTYPE=image/png:https://wexelerate.com/wp-content/uploads/2025/04/info-session-event-banner.png
END:VEVENT
END:VCALENDAR