BEGIN:VCALENDAR
VERSION:2.0
PRODID:-//weXelerate - ECPv6.15.20//NONSGML v1.0//EN
CALSCALE:GREGORIAN
METHOD:PUBLISH
X-WR-CALNAME:weXelerate
X-ORIGINAL-URL:https://wexelerate.com
X-WR-CALDESC:Events for weXelerate
REFRESH-INTERVAL;VALUE=DURATION:PT1H
X-Robots-Tag:noindex
X-PUBLISHED-TTL:PT1H
BEGIN:VTIMEZONE
TZID:Europe/Vienna
BEGIN:DAYLIGHT
TZOFFSETFROM:+0100
TZOFFSETTO:+0200
TZNAME:CEST
DTSTART:20240331T010000
END:DAYLIGHT
BEGIN:STANDARD
TZOFFSETFROM:+0200
TZOFFSETTO:+0100
TZNAME:CET
DTSTART:20241027T010000
END:STANDARD
BEGIN:DAYLIGHT
TZOFFSETFROM:+0100
TZOFFSETTO:+0200
TZNAME:CEST
DTSTART:20250330T010000
END:DAYLIGHT
BEGIN:STANDARD
TZOFFSETFROM:+0200
TZOFFSETTO:+0100
TZNAME:CET
DTSTART:20251026T010000
END:STANDARD
BEGIN:DAYLIGHT
TZOFFSETFROM:+0100
TZOFFSETTO:+0200
TZNAME:CEST
DTSTART:20260329T010000
END:DAYLIGHT
BEGIN:STANDARD
TZOFFSETFROM:+0200
TZOFFSETTO:+0100
TZNAME:CET
DTSTART:20261025T010000
END:STANDARD
END:VTIMEZONE
BEGIN:VEVENT
DTSTART;TZID=Europe/Vienna:20250704T150000
DTEND;TZID=Europe/Vienna:20250704T160000
DTSTAMP:20260419T231235
CREATED:20250618T103205Z
LAST-MODIFIED:20250723T221135Z
UID:10000171-1751641200-1751644800@wexelerate.com
SUMMARY:Venturecake Power Workshop - How to max out your energy and resilience: At work and beyond
DESCRIPTION:For Venturecake startups only\n \n \n Starting a business can be challenging – Especially when it’s one you are passionate about.\nEven more important then becomes the time and space you carve out for yourself and the care you dedicate to your own wellbeing.\nBecause without a strong founder on top\, any organization will likely struggle at some point.\nFor this reason\, what we will tackle in this Power Session is your own unique capability to nurture and prepare yourself for not just the day-to-day life as a leader\, but also the times when it gets rougher than it even might be now. Because we never know which highs and lows await us on the rollercoaster that founding can be\, and is usually always better to take the ride well equipped!\nmore info: venturecake.eu
URL:https://wexelerate.com/eventp/venturecake-power-workshop-how-to-max-out-your-energy-and-resilience-at-work-and-beyond/
LOCATION:weXelerate\, Praterstraße 1\, Wien\, 1020\, Austria
CATEGORIES:Venturecake
ATTACH;FMTTYPE=image/png:https://wexelerate.com/wp-content/uploads/2025/06/alina.png
END:VEVENT
BEGIN:VEVENT
DTSTART;TZID=Europe/Vienna:20250710T153000
DTEND;TZID=Europe/Vienna:20250710T180000
DTSTAMP:20260419T231235
CREATED:20250708T081232Z
LAST-MODIFIED:20250708T081232Z
UID:10000174-1752161400-1752170400@wexelerate.com
SUMMARY:Venturecake Power Session - Proof-Point Pilots
DESCRIPTION:For Venturecake startups only \nRunning a pilot is one thing.Turning it into a clear\, convincing story for your market is another. \nIn this hands-on Power Session with Rosa van Dam\, we’ll help you extract the key product insights from your pilot project – and turn them into sharp proof points for your market positioning. \nYou’ll work with a simple\, structured canvas and get valuable peer feedback to refine your messaging.Whether your pilot was a massive win or a mixed bag – this session will help you make it work for your story. \nMore info info@venturecake.eu
URL:https://wexelerate.com/eventp/venturecake-power-session-proof-point-pilots/
LOCATION:weXelerate\, Praterstraße 1\, Wien\, 1020\, Austria
CATEGORIES:Venturecake
ATTACH;FMTTYPE=image/png:https://wexelerate.com/wp-content/uploads/2025/07/Event-Header-10.png
END:VEVENT
BEGIN:VEVENT
DTSTART;TZID=Europe/Vienna:20250729T160000
DTEND;TZID=Europe/Vienna:20250729T173000
DTSTAMP:20260419T231235
CREATED:20250708T081945Z
LAST-MODIFIED:20250708T081945Z
UID:10000175-1753804800-1753810200@wexelerate.com
SUMMARY:Venturecake Power Session - Pitching Ambulance - Live Coaching with Austria’s #1 Pitch Doctor
DESCRIPTION:For Venturecake startups only \nPitching is more than just presenting – it’s storytelling\, credibility\, and momentum in under 3 minutes. \nIn this Power Session with Florian Kandler\, Austria’s leading pitch coach and official trainer for 2 Minuten 2 Millionen (Austria’s Shark Tank)\, you’ll learn how to structure and deliver a pitch that sticks. \nThis is your Pitch Ambulance:A focused\, high-impact session where you’ll get tips\, tricks\, and real-time feedback.Some of you will pitch live and receive 1:1 sparring with Florian – the rest will learn just as much by observing and reflecting. \nPlease come prepared to pitch – and message us if you want your deck reviewed live (limited spots!).
URL:https://wexelerate.com/eventp/venturecake-power-session-pitching-ambulance-live-coaching-with-austrias-1-pitch-doctor/
CATEGORIES:Venturecake
ATTACH;FMTTYPE=image/png:https://wexelerate.com/wp-content/uploads/2025/07/Event-Header-11.png
END:VEVENT
END:VCALENDAR