BEGIN:VCALENDAR
VERSION:2.0
PRODID:-//weXelerate - ECPv6.15.20//NONSGML v1.0//EN
CALSCALE:GREGORIAN
METHOD:PUBLISH
X-WR-CALNAME:weXelerate
X-ORIGINAL-URL:https://wexelerate.com
X-WR-CALDESC:Events for weXelerate
REFRESH-INTERVAL;VALUE=DURATION:PT1H
X-Robots-Tag:noindex
X-PUBLISHED-TTL:PT1H
BEGIN:VTIMEZONE
TZID:Europe/Vienna
BEGIN:DAYLIGHT
TZOFFSETFROM:+0100
TZOFFSETTO:+0200
TZNAME:CEST
DTSTART:20230326T010000
END:DAYLIGHT
BEGIN:STANDARD
TZOFFSETFROM:+0200
TZOFFSETTO:+0100
TZNAME:CET
DTSTART:20231029T010000
END:STANDARD
BEGIN:DAYLIGHT
TZOFFSETFROM:+0100
TZOFFSETTO:+0200
TZNAME:CEST
DTSTART:20240331T010000
END:DAYLIGHT
BEGIN:STANDARD
TZOFFSETFROM:+0200
TZOFFSETTO:+0100
TZNAME:CET
DTSTART:20241027T010000
END:STANDARD
BEGIN:DAYLIGHT
TZOFFSETFROM:+0100
TZOFFSETTO:+0200
TZNAME:CEST
DTSTART:20250330T010000
END:DAYLIGHT
BEGIN:STANDARD
TZOFFSETFROM:+0200
TZOFFSETTO:+0100
TZNAME:CET
DTSTART:20251026T010000
END:STANDARD
END:VTIMEZONE
BEGIN:VEVENT
DTSTART;TZID=Europe/Vienna:20240410T180000
DTEND;TZID=Europe/Vienna:20240410T210000
DTSTAMP:20260421T075519
CREATED:20240329T123922Z
LAST-MODIFIED:20240329T123922Z
UID:10000003-1712772000-1712782800@wexelerate.com
SUMMARY:INNOVATION AFTERHOUR // Innovation durch Tradition oder Tradition durch Innovation?
DESCRIPTION:Sei bei der nächsten Ausgabe der INNOVATION AFTERHOUR dabei wenn wir uns dem Thema “Innovation durch Tradition oder Tradition durch Innovation?” widmen. Gemeinsam beleuchten wir\, wie österreichische Familienunternehmen die Zukunft neu gestalten. In lockerer Atmosphäre bieten wir dir die perfekte Gelegenheit zum Netzwerken und zum Austausch mit den Innovationsleadern:  \n\nDominik Greiner\, der Venture-Capital-Profi von Camouflage Ventures\, zeigt\, wie Tradition und Zukunft Hand in Hand gehen.\nProf. Dr. Maximilian Lude\, der Denker und Macher hinter philoneos GmbH\, teilt sein Wissen über die Transformation von Familienunternehmen.\nSebastian Bartling\, mit Insights von Google und Otto Group\, bringt dir bei\, wie Innovation in der Praxis aussieht.\n\nIdeal für alle\, die auf Startups\, Technologie und Innovation abfahren. Komm vorbei\, lass dich inspirieren und bring deinen kreativen Geist auf das nächste Level.  \nDie Veranstaltung wird auf Deutsch abgehalten. \nSichere Dir gleich ein kostenloses Ticket: INNOVATION AFTERHOUR // Innovation & Tradition Tickets\, Mi\, 10.04.2024 um 17:30 | Eventbrite
URL:https://wexelerate.com/eventp/innovation-afterhour-innovation-durch-tradition-oder-tradition-durch-innovation/
END:VEVENT
BEGIN:VEVENT
DTSTART;TZID=Europe/Vienna:20240404T090000
DTEND;TZID=Europe/Vienna:20240404T100000
DTSTAMP:20260421T075519
CREATED:20240329T123922Z
LAST-MODIFIED:20240329T123922Z
UID:10000002-1712221200-1712224800@wexelerate.com
SUMMARY:Hub Community Meetup by EVO | Space 31
DESCRIPTION:It's that time of the month again! We are thrilled to invite you to our Hub Community Meetup\, a regular gathering that fuels the spirit of our innovation ecosystem. Join us for an engaging morning where ideas meet action! \nWhen: Last Thursday of the Month – 9:00 – 10:00 AM \nWhere: Innovation Hub of weXelerate\, host & meeting space will be announced soon \nWhat’s Happening: \n\nCommunity Catch-Up: Reconnect with fellow ecosystem members and welcome new faces.\nEcosystem Updates: Stay informed about all the upcoming events and the latest news.\nMorning Refreshments: Enjoy delicious snacks and freshly brewed coffee on us!\n\n \nExpect engaging discussions\, ecosystem news and of course\, morning snacks and coffee.  \nDon't miss this chance to connect and be inspired! \nJust come by! 
URL:https://wexelerate.com/eventp/hub-community-meetup-by-evo-space-31/
END:VEVENT
BEGIN:VEVENT
DTSTART;TZID=Europe/Vienna:20240403T180000
DTEND;TZID=Europe/Vienna:20240403T210000
DTSTAMP:20260421T075519
CREATED:20240329T123922Z
LAST-MODIFIED:20240329T123922Z
UID:10000001-1712167200-1712178000@wexelerate.com
SUMMARY:Scaleup Spritzer #2
DESCRIPTION:by Ideentriebwerk & weXelerate \nApril 3rd | 6pm | Innovation Hub of weXelerate \nGear up for an inspiring evening where you’ll experience innovative pitches from founders\, a comprehensive ecosystem pitch\, and a captivating innovation success story. It’s also a perfect opportunity for enjoyable and fruitful networking. \nSecure your free ticket: Scaleup Spritzer #02 Vienna Tickets\, Mi\, 03.04.2024 um 17:30 Uhr | Eventbrite
URL:https://wexelerate.com/eventp/scaleup-spritzer-2/
END:VEVENT
END:VCALENDAR