BEGIN:VCALENDAR
VERSION:2.0
PRODID:-//weXelerate - ECPv6.15.20//NONSGML v1.0//EN
CALSCALE:GREGORIAN
METHOD:PUBLISH
X-WR-CALNAME:weXelerate
X-ORIGINAL-URL:https://wexelerate.com
X-WR-CALDESC:Events for weXelerate
REFRESH-INTERVAL;VALUE=DURATION:PT1H
X-Robots-Tag:noindex
X-PUBLISHED-TTL:PT1H
BEGIN:VTIMEZONE
TZID:Europe/Vienna
BEGIN:DAYLIGHT
TZOFFSETFROM:+0100
TZOFFSETTO:+0200
TZNAME:CEST
DTSTART:20230326T010000
END:DAYLIGHT
BEGIN:STANDARD
TZOFFSETFROM:+0200
TZOFFSETTO:+0100
TZNAME:CET
DTSTART:20231029T010000
END:STANDARD
BEGIN:DAYLIGHT
TZOFFSETFROM:+0100
TZOFFSETTO:+0200
TZNAME:CEST
DTSTART:20240331T010000
END:DAYLIGHT
BEGIN:STANDARD
TZOFFSETFROM:+0200
TZOFFSETTO:+0100
TZNAME:CET
DTSTART:20241027T010000
END:STANDARD
BEGIN:DAYLIGHT
TZOFFSETFROM:+0100
TZOFFSETTO:+0200
TZNAME:CEST
DTSTART:20250330T010000
END:DAYLIGHT
BEGIN:STANDARD
TZOFFSETFROM:+0200
TZOFFSETTO:+0100
TZNAME:CET
DTSTART:20251026T010000
END:STANDARD
END:VTIMEZONE
BEGIN:VEVENT
DTSTART;TZID=Europe/Vienna:20240903T100000
DTEND;TZID=Europe/Vienna:20240903T150000
DTSTAMP:20260419T231224
CREATED:20240329T123923Z
LAST-MODIFIED:20240329T123923Z
UID:10000017-1725357600-1725375600@wexelerate.com
SUMMARY:INNOVATION MASTER CLASS // Modul 4 Kultur des Wandels: Innovationskultur gestalten // exklusiv für Members
DESCRIPTION:Etabliere eine Innovationskultur\, die inspiriert und verändert! Lerne\, wie du eine Umgebung schaffst\, in der Innovation gedeiht. Entdecke\, wie du Mitarbeiterengagement steigerst und innovative Denkweisen förderst. Gemeinsam gestalten wir eine Kultur des Wandels für eine erfolgreiche Zukunft. \nNach diesem Modul wirst du Folgendes gelernt haben: \n\nTechniken zur Förderung von Mitarbeiterengagement im Innovationsprozess.\nWissen über HR-Strategien sowie Anreizsysteme zur Unterstützung der Innovationskultur.\nVerständnis für die Bedeutung von Mitarbeiterbeteiligung am Innovationsgeschehen.\n\nDie Teilnahme ist nur für Member des Innovationsökosystems von weXelerate möglich. Für mehr Infos kontaktiere uns unter ecosystem@wexelerate.com
URL:https://wexelerate.com/eventp/innovation-master-class-modul-4-kultur-des-wandels-innovationskultur-gestalten-exklusiv-fur-members/
END:VEVENT
BEGIN:VEVENT
DTSTART;TZID=Europe/Vienna:20240912T103000
DTEND;TZID=Europe/Vienna:20240912T114500
DTSTAMP:20260419T231224
CREATED:20240329T123923Z
LAST-MODIFIED:20240329T123923Z
UID:10000018-1726137000-1726141500@wexelerate.com
SUMMARY:INNOVATION INSIGHTS // Gamification Spielerisch zum Erfolg: Gamification als Innovationsstrategie // free for members
DESCRIPTION:Points\, Levels\, Highscores und Quests – Begriffe die in der Gamingwelt nicht mehr wegzudenken sind. Aber kann man auch im Unternehmen spielerisch Erfolg haben? Mit dem Ansatz der Gamification wenden wir spieltypische Elemente in spielfremden Umgebungen an. Dabei steigert dieser Zugang oft die Motivation aller Beteiligten und ermöglicht kreative Problemlösungen. Mit diesem Innovation Insights Event bringen wir dich und dein Unternehmen aufs nächste Level!\nDie Teilnahme ist nur für Member des Innovationsökosystems von weXelerate möglich. Für mehr Infos kontaktiere uns unter ecosystem@wexelerate.com
URL:https://wexelerate.com/eventp/innovation-insights-gamification-spielerisch-zum-erfolg-gamification-als-innovationsstrategie-free-for-members/
END:VEVENT
BEGIN:VEVENT
DTSTART;TZID=Europe/Vienna:20240919T140000
DTEND;TZID=Europe/Vienna:20240919T170000
DTSTAMP:20260419T231224
CREATED:20240329T123923Z
LAST-MODIFIED:20240329T123923Z
UID:10000019-1726754400-1726765200@wexelerate.com
SUMMARY:Cross Corporate Circle // exklusiv für Members
DESCRIPTION:Der Cross Corporate Circle ist Ihre Plattform für vertiefte Diskussionen zu spezialisierten Innovationsthemen.  \nHier bieten wir Innovationsmanagern und -experten die Möglichkeit\, sich in 2-3 stündigen interaktiven WorkingSessions mit Gleichgesinnten auszutauschen\, Herausforderungen zu diskutieren und Lösungsansätze zuvertiefen.  \nFacilitiert von weXelerate Experten\, fördert dieses Programm den interaktiven Austausch und schafft Raumfür gemeinsame Lösungsfindung und Identifikation von gemeinsamen Kooperationen. \n \nDie Teilnahme ist nur für Member des Innovationsökosystems von weXelerate möglich. Für mehr Infos kontaktiere uns unter ecosystem@wexelerate.com
URL:https://wexelerate.com/eventp/cross-corporate-circle-exklusiv-fur-members-3/
END:VEVENT
BEGIN:VEVENT
DTSTART;TZID=Europe/Vienna:20240924T180000
DTEND;TZID=Europe/Vienna:20240924T210000
DTSTAMP:20260419T231224
CREATED:20240329T123923Z
LAST-MODIFIED:20240329T123923Z
UID:10000020-1727200800-1727211600@wexelerate.com
SUMMARY:INNOVATION AFTERHOUR // kostenlose Teilnahme
DESCRIPTION:
URL:https://wexelerate.com/eventp/innovation-afterhour-kostenlose-teilnahme-4/
END:VEVENT
BEGIN:VEVENT
DTSTART;TZID=Europe/Vienna:20240926T090000
DTEND;TZID=Europe/Vienna:20240926T100000
DTSTAMP:20260419T231224
CREATED:20240329T123923Z
LAST-MODIFIED:20240329T123923Z
UID:10000021-1727341200-1727344800@wexelerate.com
SUMMARY:Hub Community Meetup
DESCRIPTION:It's that time of the month again! We are thrilled to invite you to our Hub Community Meetup\, a regular gathering that fuels the spirit of our innovation ecosystem. Join us for an engaging morning where ideas meet action! \nWhen: Last Thursday of the Month – 9:00 – 10:00 AM \nWhere: Innovation Hub of weXelerate\, host & meeting space will be announced soon \nWhat’s Happening: \n\nCommunity Catch-Up: Reconnect with fellow ecosystem members and welcome new faces.\nEcosystem Updates: Stay informed about all the upcoming events and the latest news.\nMorning Refreshments: Enjoy delicious snacks and freshly brewed coffee on us!\n\n \nExpect engaging discussions\, ecosystem news and of course\, morning snacks and coffee.  \nDon't miss this chance to connect and be inspired! \nJust come by! 
URL:https://wexelerate.com/eventp/hub-community-meetup-3/
END:VEVENT
END:VCALENDAR