BEGIN:VCALENDAR
VERSION:2.0
PRODID:-//weXelerate - ECPv6.15.20//NONSGML v1.0//EN
CALSCALE:GREGORIAN
METHOD:PUBLISH
X-WR-CALNAME:weXelerate
X-ORIGINAL-URL:https://wexelerate.com
X-WR-CALDESC:Events for weXelerate
REFRESH-INTERVAL;VALUE=DURATION:PT1H
X-Robots-Tag:noindex
X-PUBLISHED-TTL:PT1H
BEGIN:VTIMEZONE
TZID:Europe/Vienna
BEGIN:DAYLIGHT
TZOFFSETFROM:+0100
TZOFFSETTO:+0200
TZNAME:CEST
DTSTART:20230326T010000
END:DAYLIGHT
BEGIN:STANDARD
TZOFFSETFROM:+0200
TZOFFSETTO:+0100
TZNAME:CET
DTSTART:20231029T010000
END:STANDARD
BEGIN:DAYLIGHT
TZOFFSETFROM:+0100
TZOFFSETTO:+0200
TZNAME:CEST
DTSTART:20240331T010000
END:DAYLIGHT
BEGIN:STANDARD
TZOFFSETFROM:+0200
TZOFFSETTO:+0100
TZNAME:CET
DTSTART:20241027T010000
END:STANDARD
BEGIN:DAYLIGHT
TZOFFSETFROM:+0100
TZOFFSETTO:+0200
TZNAME:CEST
DTSTART:20250330T010000
END:DAYLIGHT
BEGIN:STANDARD
TZOFFSETFROM:+0200
TZOFFSETTO:+0100
TZNAME:CET
DTSTART:20251026T010000
END:STANDARD
END:VTIMEZONE
BEGIN:VTIMEZONE
TZID:UTC
BEGIN:STANDARD
TZOFFSETFROM:+0000
TZOFFSETTO:+0000
TZNAME:UTC
DTSTART:20230101T000000
END:STANDARD
END:VTIMEZONE
BEGIN:VEVENT
DTSTART;TZID=Europe/Vienna:20241008T100000
DTEND;TZID=Europe/Vienna:20241008T150000
DTSTAMP:20260419T214633
CREATED:20240329T123923Z
LAST-MODIFIED:20240329T123923Z
UID:10000022-1728381600-1728399600@wexelerate.com
SUMMARY:INNOVATION MASTER CLASS // Modul 5 Vernetzte Zukunft: Kollaborationen gestalten // exklusiv für Members
DESCRIPTION:Betrete die Welt der Vernetzung und Zusammenarbeit! Erfahre\, wie du interne Stakeholder einbindest und starke Partnerschaften mit externen Akteuren\, einschließlich Startups und anderen Corporates\, aufbaust. Entdecke die Kraft der Kooperation\, um gemeinsam die Zukunft zu gestalten. \nNach diesem Modul wirst du Folgendes gelernt haben: \n\nStrategien zur erfolgreichen Einbindung von internen Partnern in den Innovationsprozess.\nFähigkeit zur Identifizierung und Auswahl relevanter externer Partner.\nVerständnis für die Stärkung von Innovationskraft durch effektive Kooperationen.\n\nDie Teilnahme ist nur für Member des Innovationsökosystems von weXelerate möglich. Für mehr Infos kontaktiere uns unter ecosystem@wexelerate.com
URL:https://wexelerate.com/eventp/innovation-master-class-modul-5-vernetzte-zukunft-kollaborationen-gestalten-exklusiv-fur-members/
END:VEVENT
BEGIN:VEVENT
DTSTART;TZID=UTC:20241009T100000
DTEND;TZID=UTC:20241010T170000
DTSTAMP:20260419T214633
CREATED:20240430T142826Z
LAST-MODIFIED:20240430T142826Z
UID:10000039-1728468000-1728579600@wexelerate.com
SUMMARY:Zukunftsforum - Plattform für ZukunftsentscheiderInnen
DESCRIPTION:“Die Champions der Zukunft sind WIR!” Unter diesem Motto findet heuer erstmalig das Zukunftsforum Ramsau am Dachstein statt. Unsere Vision ist es eine Unternehmenskultur zu schaffen\, die es ermöglicht\, die Zukunft positiv zu gestalten. Zukunftsanforderungen werden zunehmend komplexer und anspruchsvoller. Megatrends wie ESG\, Kreislaufwirtschaft\, Mobilität\, Digitalisierung\, HR\, etc. sind für Unternehmen wichtiger denn je. Zukunftsanforderungen richtig implementieren wird möglicherweise zum Gamechanger für viele Branchen und Marken. Mit dem Ziel eine Plattform zu schaffen\, die wichtige Impulse für die Zukunftsgestaltung gibt\, wollen wir das Zukunftsforum Ramsau zu einem nachhaltigen Treffpunkt von Zukunftsentscheider:innen etablieren.
URL:https://wexelerate.com/eventp/zukunftsforum-plattform-fur-zukunftsentscheiderinnen/
END:VEVENT
BEGIN:VEVENT
DTSTART;TZID=Europe/Vienna:20241010T090000
DTEND;TZID=Europe/Vienna:20241010T170000
DTSTAMP:20260419T214633
CREATED:20240329T123923Z
LAST-MODIFIED:20240329T123923Z
UID:10000023-1728550800-1728579600@wexelerate.com
SUMMARY:Austrian Innovation Forum by Succus
DESCRIPTION:About the event \nweXelerate member benefit from discounted ticket.  Please reach out to us at ecosystem@wexelerate.com.
URL:https://wexelerate.com/eventp/austrian-innovation-forum-by-succus/
END:VEVENT
BEGIN:VEVENT
DTSTART;TZID=Europe/Vienna:20241010T103000
DTEND;TZID=Europe/Vienna:20241010T113000
DTSTAMP:20260419T214633
CREATED:20240329T123923Z
LAST-MODIFIED:20240329T123923Z
UID:10000024-1728556200-1728559800@wexelerate.com
SUMMARY:INNOVATION INSIGHTS // Startup Landscape Austria Innovation im Herzen Europas: Ein Überblick über das Startup- Ökosystem in Österreich // free for members
DESCRIPTION:Österreich. Das Land der Berge. Das Land der Seen. Das Land des Kaiserschmarrns. Aber auch das Land der Startups? Auf jeden Fall!\nÖsterreich bietet Startups viele Möglichkeiten\, um sich erfolgreich am Markt zu etablieren und mit großen Unternehmen zusammenzuarbeiten. Ob im trendigen Wiener Startup-Hub\, in den Bergen Tirols oder im Technologie-Hotspot Linz – überall entstehen innovative Startups. Sei dabei und lerne die wichtigsten Player am österreichischen Markt kennen!\nDie Teilnahme ist nur für Member des Innovationsökosystems von weXelerate möglich. Für mehr Infos kontaktiere uns unter ecosystem@wexelerate.com
URL:https://wexelerate.com/eventp/innovation-insights-startup-landscape-austria-innovation-im-herzen-europas-ein-uberblick-uber-das-startup-okosystem-in-osterreich-free-for-members/
END:VEVENT
BEGIN:VEVENT
DTSTART;TZID=Europe/Vienna:20241011T090000
DTEND;TZID=Europe/Vienna:20241011T170000
DTSTAMP:20260419T214633
CREATED:20240329T123923Z
LAST-MODIFIED:20240329T123923Z
UID:10000025-1728637200-1728666000@wexelerate.com
SUMMARY:Austrian Innovation Forum by Succus
DESCRIPTION:About the event \nweXelerate member benefit from discounted ticket.  Please reach out to us at ecosystem@wexelerate.com.
URL:https://wexelerate.com/eventp/austrian-innovation-forum-by-succus-2/
END:VEVENT
BEGIN:VEVENT
DTSTART;TZID=Europe/Vienna:20241031T090000
DTEND;TZID=Europe/Vienna:20241031T100000
DTSTAMP:20260419T214633
CREATED:20240329T123923Z
LAST-MODIFIED:20240329T123923Z
UID:10000027-1730365200-1730368800@wexelerate.com
SUMMARY:Hub Community Meetup
DESCRIPTION:It's that time of the month again! We are thrilled to invite you to our Hub Community Meetup\, a regular gathering that fuels the spirit of our innovation ecosystem. Join us for an engaging morning where ideas meet action! \nWhen: Last Thursday of the Month – 9:00 – 10:00 AM \nWhere: Innovation Hub of weXelerate\, host & meeting space will be announced soon \nWhat’s Happening: \n\nCommunity Catch-Up: Reconnect with fellow ecosystem members and welcome new faces.\nEcosystem Updates: Stay informed about all the upcoming events and the latest news.\nMorning Refreshments: Enjoy delicious snacks and freshly brewed coffee on us!\n\n \nExpect engaging discussions\, ecosystem news and of course\, morning snacks and coffee.  \nDon't miss this chance to connect and be inspired! \nJust come by! 
URL:https://wexelerate.com/eventp/hub-community-meetup-4/
END:VEVENT
END:VCALENDAR